BEGIN:VCALENDAR
VERSION:2.0
PRODID:Events Booking
BEGIN:VEVENT
UID:69e8ecff59eed
SUMMARY:Webinar: Geometría para simulación multifísica. Herramientas CAD
  de COMSOL Multiphysics
DESCRIPTION:Sesión en la que&nbsp\;conoceremos las herramientas que comple
 mentan la plataforma base de COMSOL Multiphysics para la creación de la g
 eometría de los modelos: los módulos Design Module y CAD Import Module\,
  y la familia de conectores COMSOL LiveLink para enlazar con diferentes pl
 ataformas CAD.
LOCATION:Virtual - Sesiones telemáticas
DTSTART:20260430T080000Z
DTEND:20260430T100000Z
DTSTAMP:20260422T154503Z
ORGANIZER;CN=Seminarios Addlink:MAILTO:seminarios@somos.addlink.es
END:VEVENT
END:VCALENDAR